BEGIN:VCALENDAR
VERSION:2.0
PRODID:-//Oregon Center for Nursing - ECPv6.15.17.1//NONSGML v1.0//EN
CALSCALE:GREGORIAN
METHOD:PUBLISH
X-ORIGINAL-URL:https://www.oregoncenterfornursing.org
X-WR-CALDESC:Events for Oregon Center for Nursing
REFRESH-INTERVAL;VALUE=DURATION:PT1H
X-Robots-Tag:noindex
X-PUBLISHED-TTL:PT1H
BEGIN:VTIMEZONE
TZID:UTC
BEGIN:STANDARD
TZOFFSETFROM:+0000
TZOFFSETTO:+0000
TZNAME:UTC
DTSTART:20240101T000000
END:STANDARD
END:VTIMEZONE
BEGIN:VTIMEZONE
TZID:America/Los_Angeles
BEGIN:DAYLIGHT
TZOFFSETFROM:-0800
TZOFFSETTO:-0700
TZNAME:PDT
DTSTART:20240310T100000
END:DAYLIGHT
BEGIN:STANDARD
TZOFFSETFROM:-0700
TZOFFSETTO:-0800
TZNAME:PST
DTSTART:20241103T090000
END:STANDARD
BEGIN:DAYLIGHT
TZOFFSETFROM:-0800
TZOFFSETTO:-0700
TZNAME:PDT
DTSTART:20250309T100000
END:DAYLIGHT
BEGIN:STANDARD
TZOFFSETFROM:-0700
TZOFFSETTO:-0800
TZNAME:PST
DTSTART:20251102T090000
END:STANDARD
BEGIN:DAYLIGHT
TZOFFSETFROM:-0800
TZOFFSETTO:-0700
TZNAME:PDT
DTSTART:20260308T100000
END:DAYLIGHT
BEGIN:STANDARD
TZOFFSETFROM:-0700
TZOFFSETTO:-0800
TZNAME:PST
DTSTART:20261101T090000
END:STANDARD
END:VTIMEZONE
BEGIN:VEVENT
DTSTART;TZID=UTC:20250315T080000
DTEND;TZID=UTC:20250316T170000
DTSTAMP:20260421T042504
CREATED:20250214T032444Z
LAST-MODIFIED:20250328T213013Z
UID:10000319-1742025600-1742144400@www.oregoncenterfornursing.org
SUMMARY:2025 Oregon ENA Education Conference
DESCRIPTION:Join us for two days filled with educational sessions\, networking opportunities\, and insightful discussions on emergency nursing. Whether you're a seasoned professional or just starting your career\, this conference is designed to inspire\, educate\, and connect attendees in the beautiful setting of Riverhouse Lodge. Don't miss out on this chance to enhance your skills\, meet fellow nurses\, and immerse yourself in the world of emergency nursing. We can't wait to see you there! \nConference registration includes continental breakfast and catered lunch Thursday and Friday. Dinner is on your own or with the new friends you meet during sessions.
URL:https://www.oregoncenterfornursing.org/event/2025-oregon-ena-education-conference/
LOCATION:Riverhouse Lodge\, 3075 North Highway 97\, Bend\, OR\, 97703\, United States
CATEGORIES:Community Event,Conferences
ATTACH;FMTTYPE=image/jpeg:https://www.oregoncenterfornursing.org/wp-content/uploads/2025/02/unrecognizable-woman-raising-hand-during-conferenc-2025-02-10-09-49-36-utc-scaled.jpeg
END:VEVENT
BEGIN:VEVENT
DTSTART;TZID=America/Los_Angeles:20250321T083000
DTEND;TZID=America/Los_Angeles:20250321T163000
DTSTAMP:20260421T042504
CREATED:20250214T031134Z
LAST-MODIFIED:20260112T174541Z
UID:10000287-1742545800-1742574600@www.oregoncenterfornursing.org
SUMMARY:2025 NurseLearn Conference
DESCRIPTION:Welcome to NurseLearn's 2025 conference\, “From Challenges to Solutions: Advancing Community-Based Care Nursing\,” bringing together community-based care (CBC) nurses\, all nurses\, student nurses\, and other CBC professionals for a day of learning about nursing leadership\, RN delegation\, and managing resident behaviors. This event will award 4.25 hours of continuing education. \nRegister here: https://whova.com/web/1UgD3yhxS1NphHWAGhVLRFmaquRbUYOuO7gL0Cs3vZk%3D/
URL:https://www.oregoncenterfornursing.org/event/the-nurselearn-conference/
LOCATION:Salem Convention Center\, 200 Commercial Street\, Salem\, OR\, 97301\, United States
CATEGORIES:Community Event,Conferences
ATTACH;FMTTYPE=image/webp:https://www.oregoncenterfornursing.org/wp-content/uploads/2025/02/Conference-banner1.webp
ORGANIZER;CN="NurseLearn":MAILTO:info@nurselearn.com
END:VEVENT
END:VCALENDAR