BEGIN:VCALENDAR
VERSION:2.0
PRODID:-//Oregon Center for Nursing - ECPv6.15.20//NONSGML v1.0//EN
CALSCALE:GREGORIAN
METHOD:PUBLISH
X-ORIGINAL-URL:https://www.oregoncenterfornursing.org
X-WR-CALDESC:Events for Oregon Center for Nursing
REFRESH-INTERVAL;VALUE=DURATION:PT1H
X-Robots-Tag:noindex
X-PUBLISHED-TTL:PT1H
BEGIN:VTIMEZONE
TZID:UTC
BEGIN:STANDARD
TZOFFSETFROM:+0000
TZOFFSETTO:+0000
TZNAME:UTC
DTSTART:20240101T000000
END:STANDARD
END:VTIMEZONE
BEGIN:VEVENT
DTSTART;VALUE=DATE:20250405
DTEND;VALUE=DATE:20250406
DTSTAMP:20260421T233308
CREATED:20250308T005322Z
LAST-MODIFIED:20250308T005431Z
UID:10000328-1743811200-1743897599@www.oregoncenterfornursing.org
SUMMARY:Nurse Practitioners of Oregon (NPO) Annual Pharmacology Conference
DESCRIPTION:Topics Include:\n\nNew Drug Updates\nPrescribing in the Face of CKD (Chronic Kidney Disease)\nComing to an Exam Room Near You:  Measles\, Chicken Pox\, Avian Flu and other things we don't expect!\nComplex Case Studies in Lab Diagnosis\n\nLearners can earn 6.5 nursing continuing professional development contact hours (which includes 6.5 pharmacotherapeutic contact hours). Oregon Nurses Association is accredited as a provider of nursing continuing professional development by the American Nurses Credentialing Center’s Commission on Accreditation.  \nRegistration & Info\nRegistration is open and available until April 1\, 2025. \nRegistration Fees – includes a light breakfast and lunch \n\n$125 – NPO/ONA/OCCNS members (this rate will be honored for members of other state nurses associations)\n$175 – Non-members\n$100 – Nursing students (please contact PK at Troope@OregonRN.org for details on how to get this rate)\n\nIf you are a member\, make sure to log-in to get the member discount! If you are a member of a different nurses state association\, or are a student\, please reach out to NPO@OregonRN.org for a discount code. 
URL:https://www.oregoncenterfornursing.org/event/nurse-practitioners-of-oregon-npo-annual-pharmacology-conference/
LOCATION:Holiday Inn Wilsonville\, 25425 Southwest 95th Avenue\, Wilsonville\, O\, 97070\, United States
CATEGORIES:Conferences
ORGANIZER;CN="Nurse Practitioners of Oregon":MAILTO:NPO@oregonrn.org
END:VEVENT
END:VCALENDAR