BEGIN:VCALENDAR
VERSION:2.0
PRODID:-//Oregon Center for Nursing - ECPv6.15.20//NONSGML v1.0//EN
CALSCALE:GREGORIAN
METHOD:PUBLISH
X-ORIGINAL-URL:https://www.oregoncenterfornursing.org
X-WR-CALDESC:Events for Oregon Center for Nursing
REFRESH-INTERVAL;VALUE=DURATION:PT1H
X-Robots-Tag:noindex
X-PUBLISHED-TTL:PT1H
BEGIN:VTIMEZONE
TZID:UTC
BEGIN:STANDARD
TZOFFSETFROM:+0000
TZOFFSETTO:+0000
TZNAME:UTC
DTSTART:20230101T000000
END:STANDARD
END:VTIMEZONE
BEGIN:VEVENT
DTSTART;TZID=UTC:20240926T080000
DTEND;TZID=UTC:20240928T170000
DTSTAMP:20260422T131919
CREATED:20240823T225209Z
LAST-MODIFIED:20240823T225245Z
UID:10000267-1727337600-1727542800@www.oregoncenterfornursing.org
SUMMARY:Nurse Practitioners of Oregon (NPO) Annual Education Conference
DESCRIPTION:Featured Presentations\n\nKeynote on Health Policy Updates Every Nurse Practitioner Needs to Know by AANP President Stephen Ferrara\, DNP\, FNP-BC\, FAANP\, FAAN\nKeynote on Climate Change\, Community Vulnerability\, Health Equity and Responsive Healthcare by Anita Keā'lani Yap\, Masters\, Urban and Regional Planning\nPlenary session on Practice Updates: The Role of Nurse Leadership in Professional Practice and Regulatory Excellence by OSBN’s Executive Director Rachel Prusak\, MSN\, APRN\, FNP-C and Policy Analyst\, Sarah Wickenhagen\, DNP\, APRN\, FNP-C\nand many more!\n\nContinuing Education\nLearners can earn approximately 20 ANCC contact hours\, which includes pharmacotherapeutic contact hours. \nOregon Nurses Association is accredited as a provider of nursing continuing professional development by the American Nurses Credentialing Center’s Commission on Accreditation. \nCall for Exhibitors\nThe Nurse Practitioners of Oregon invites organizations to share your product expertise with us during the 2024 Annual Nurse Practitioners of Oregon Education Conference. \nClick here to learn more about exhibitor opportunities!
URL:https://www.oregoncenterfornursing.org/event/nurse-practitioners-of-oregon-npo-annual-education-conference/
LOCATION:Portland Embassy Suites\, 319 SW Pine St\, Portland\, OR
CATEGORIES:Community Event
ATTACH;FMTTYPE=image/webp:https://www.oregoncenterfornursing.org/wp-content/uploads/2024/08/NPO-Logo-2014-400px-002.webp
END:VEVENT
END:VCALENDAR