BEGIN:VCALENDAR
VERSION:2.0
PRODID:-//Oregon Center for Nursing - ECPv6.15.20//NONSGML v1.0//EN
CALSCALE:GREGORIAN
METHOD:PUBLISH
X-ORIGINAL-URL:https://www.oregoncenterfornursing.org
X-WR-CALDESC:Events for Oregon Center for Nursing
REFRESH-INTERVAL;VALUE=DURATION:PT1H
X-Robots-Tag:noindex
X-PUBLISHED-TTL:PT1H
BEGIN:VTIMEZONE
TZID:UTC
BEGIN:STANDARD
TZOFFSETFROM:+0000
TZOFFSETTO:+0000
TZNAME:UTC
DTSTART:20230101T000000
END:STANDARD
END:VTIMEZONE
BEGIN:VEVENT
DTSTART;TZID=UTC:20240922T110000
DTEND;TZID=UTC:20240924T170000
DTSTAMP:20260422T131910
CREATED:20240719T223020Z
LAST-MODIFIED:20240719T223200Z
UID:10000264-1727002800-1727197200@www.oregoncenterfornursing.org
SUMMARY:2024 Oregon AWHONN Fall Conference
DESCRIPTION:Oregon AWHONN’s Fall Conference provides evidence-based\, clinically relevant education specific to Obstetrics\, Newborn Care\, and Women's/Gynecologic Health. The conference goals are to: \n\nRecognize personal strengths to be a leader in a dynamic healthcare environment.\nImplement evidence-based solutions in all practice settings.\nDevelop professional strategies to improve outcomes for women\, newborns\, and nursing.\n\n​
URL:https://www.oregoncenterfornursing.org/event/2024-oregon-awhonn-fall-conference/
LOCATION:Salishan Coastal Lodge\, 7760 US-101\, Gleneden Beach\, Oregon\, 97388
CATEGORIES:Community Event,Conferences
ATTACH;FMTTYPE=image/webp:https://www.oregoncenterfornursing.org/wp-content/uploads/2024/07/AWHONN_OregonLogo_Color_noborder_bold.webp
ORGANIZER;CN="Association of Women's Health%2C Obstetric and Neonatal Nurses":MAILTO:info@oregonawhonn.org
END:VEVENT
END:VCALENDAR