BEGIN:VCALENDAR
VERSION:2.0
PRODID:-//Oregon Center for Nursing - ECPv6.15.20//NONSGML v1.0//EN
CALSCALE:GREGORIAN
METHOD:PUBLISH
X-WR-CALNAME:Oregon Center for Nursing
X-ORIGINAL-URL:https://www.oregoncenterfornursing.org
X-WR-CALDESC:Events for Oregon Center for Nursing
REFRESH-INTERVAL;VALUE=DURATION:PT1H
X-Robots-Tag:noindex
X-PUBLISHED-TTL:PT1H
BEGIN:VTIMEZONE
TZID:UTC
BEGIN:STANDARD
TZOFFSETFROM:+0000
TZOFFSETTO:+0000
TZNAME:UTC
DTSTART:20240101T000000
END:STANDARD
END:VTIMEZONE
BEGIN:VTIMEZONE
TZID:America/Los_Angeles
BEGIN:DAYLIGHT
TZOFFSETFROM:-0800
TZOFFSETTO:-0700
TZNAME:PDT
DTSTART:20240310T100000
END:DAYLIGHT
BEGIN:STANDARD
TZOFFSETFROM:-0700
TZOFFSETTO:-0800
TZNAME:PST
DTSTART:20241103T090000
END:STANDARD
BEGIN:DAYLIGHT
TZOFFSETFROM:-0800
TZOFFSETTO:-0700
TZNAME:PDT
DTSTART:20250309T100000
END:DAYLIGHT
BEGIN:STANDARD
TZOFFSETFROM:-0700
TZOFFSETTO:-0800
TZNAME:PST
DTSTART:20251102T090000
END:STANDARD
BEGIN:DAYLIGHT
TZOFFSETFROM:-0800
TZOFFSETTO:-0700
TZNAME:PDT
DTSTART:20260308T100000
END:DAYLIGHT
BEGIN:STANDARD
TZOFFSETFROM:-0700
TZOFFSETTO:-0800
TZNAME:PST
DTSTART:20261101T090000
END:STANDARD
END:VTIMEZONE
BEGIN:VEVENT
DTSTART;TZID=UTC:20250301T073000
DTEND;TZID=UTC:20250301T163000
DTSTAMP:20260425T081952
CREATED:20250214T024839Z
LAST-MODIFIED:20250214T024839Z
UID:10000284-1740814200-1740846600@www.oregoncenterfornursing.org
SUMMARY:2025 Oregon Student Nurses Association Annual Convention
DESCRIPTION:Welcome to the 2025 Oregon Student Nurses Association Annual Convention! \nThis year\, we are thrilled to invite you to join us for a day filled with networking\, learning\, and fun at the OHSU Joseph R. Robertson Collaborative Life Sciences Building. Whether you're a seasoned nursing student or just starting your journey as a pre-nursing student\, this event is perfect for you! \nGet ready to connect with experienced working nurses and nurse leaders\, engage in hands-on workshops\, and connect with fellow nursing enthusiasts from across Oregon. This is your chance to gain valuable knowledge\, make new friends\, and explore exciting opportunities in the nursing field.Plus\, enjoy exciting raffles and giveaways throughout the day for a chance to win prizes! \nDon't miss out on this fantastic opportunity to grow both personally and professionally. Mark your calendars and get ready for an unforgettable experience at the 2025 Oregon Student Nurses Association Annual Convention!
URL:https://www.oregoncenterfornursing.org/event/2025-oregon-student-nurses-association-annual-convention/
LOCATION:Joseph R. Robertson Collaborative Life Sciences Building\, 2730 South Moody Avenue\, Portland\, 97201\, United States
CATEGORIES:Community Event
ATTACH;FMTTYPE=image/webp:https://www.oregoncenterfornursing.org/wp-content/uploads/2025/02/https___cdn.evbuc_.com_images_948951413_1749123915113_1_original.webp
END:VEVENT
BEGIN:VEVENT
DTSTART;TZID=America/Los_Angeles:20250307T080000
DTEND;TZID=America/Los_Angeles:20250307T090000
DTSTAMP:20260425T081952
CREATED:20250214T031412Z
LAST-MODIFIED:20260417T165506Z
UID:10000696-1741334400-1741338000@www.oregoncenterfornursing.org
SUMMARY:OCN Virtual Friday Huddle
DESCRIPTION:Convene. Connect. Collaborate.\nFridays at 8:00 a.m. PT | Free | Online via Zoom \nThe Friday Huddle is a weekly virtual gathering of Oregon nursing workforce leaders and stakeholders. Hosted by the Oregon Center for Nursing\, this series offers a space for real-time updates\, shared insights\, and collaborative conversation. \nWhether you're leading workforce strategy\, navigating policy changes\, or just looking to stay connected with peers across the state\, Friday Huddles are your space to learn and share. \n🟣 What to Expect:\n\n\nBrief updates from OCN and special guests \n\n\nSpotlights on current nursing workforce issues \n\n\nOpen space for questions\, dialogue\, and shared solutions \n\n\nEach session is just one hour\, held live via Zoom. \n🔗 Want to Learn More?\nVisit our Friday Huddle program page to explore FAQs\, past topics\, and how to participate.
URL:https://www.oregoncenterfornursing.org/event/friday-huddle-2/2025-03-07/
CATEGORIES:Friday Huddle
ATTACH;FMTTYPE=image/webp:https://www.oregoncenterfornursing.org/wp-content/uploads/2024/07/2-1-1.webp
ORGANIZER;CN="Oregon Center for Nursing":MAILTO:admin@oregoncenterfornursing.org
LOCATION:https://us06web.zoom.us/meeting/register/dhB5d5c8RKKxx3LzzfHBpg
END:VEVENT
BEGIN:VEVENT
DTSTART;TZID=America/Los_Angeles:20250314T080000
DTEND;TZID=America/Los_Angeles:20250314T090000
DTSTAMP:20260425T081952
CREATED:20250214T031412Z
LAST-MODIFIED:20260417T165506Z
UID:10000697-1741939200-1741942800@www.oregoncenterfornursing.org
SUMMARY:OCN Virtual Friday Huddle
DESCRIPTION:Convene. Connect. Collaborate.\nFridays at 8:00 a.m. PT | Free | Online via Zoom \nThe Friday Huddle is a weekly virtual gathering of Oregon nursing workforce leaders and stakeholders. Hosted by the Oregon Center for Nursing\, this series offers a space for real-time updates\, shared insights\, and collaborative conversation. \nWhether you're leading workforce strategy\, navigating policy changes\, or just looking to stay connected with peers across the state\, Friday Huddles are your space to learn and share. \n🟣 What to Expect:\n\n\nBrief updates from OCN and special guests \n\n\nSpotlights on current nursing workforce issues \n\n\nOpen space for questions\, dialogue\, and shared solutions \n\n\nEach session is just one hour\, held live via Zoom. \n🔗 Want to Learn More?\nVisit our Friday Huddle program page to explore FAQs\, past topics\, and how to participate.
URL:https://www.oregoncenterfornursing.org/event/friday-huddle-2/2025-03-14/
CATEGORIES:Friday Huddle
ATTACH;FMTTYPE=image/webp:https://www.oregoncenterfornursing.org/wp-content/uploads/2024/07/2-1-1.webp
ORGANIZER;CN="Oregon Center for Nursing":MAILTO:admin@oregoncenterfornursing.org
LOCATION:https://us06web.zoom.us/meeting/register/dhB5d5c8RKKxx3LzzfHBpg
END:VEVENT
BEGIN:VEVENT
DTSTART;TZID=UTC:20250315T080000
DTEND;TZID=UTC:20250316T170000
DTSTAMP:20260425T081952
CREATED:20250214T032444Z
LAST-MODIFIED:20250328T213013Z
UID:10000319-1742025600-1742144400@www.oregoncenterfornursing.org
SUMMARY:2025 Oregon ENA Education Conference
DESCRIPTION:Join us for two days filled with educational sessions\, networking opportunities\, and insightful discussions on emergency nursing. Whether you're a seasoned professional or just starting your career\, this conference is designed to inspire\, educate\, and connect attendees in the beautiful setting of Riverhouse Lodge. Don't miss out on this chance to enhance your skills\, meet fellow nurses\, and immerse yourself in the world of emergency nursing. We can't wait to see you there! \nConference registration includes continental breakfast and catered lunch Thursday and Friday. Dinner is on your own or with the new friends you meet during sessions.
URL:https://www.oregoncenterfornursing.org/event/2025-oregon-ena-education-conference/
LOCATION:Riverhouse Lodge\, 3075 North Highway 97\, Bend\, OR\, 97703\, United States
CATEGORIES:Community Event,Conferences
ATTACH;FMTTYPE=image/jpeg:https://www.oregoncenterfornursing.org/wp-content/uploads/2025/02/unrecognizable-woman-raising-hand-during-conferenc-2025-02-10-09-49-36-utc-scaled.jpeg
END:VEVENT
BEGIN:VEVENT
DTSTART;TZID=America/Los_Angeles:20250321T080000
DTEND;TZID=America/Los_Angeles:20250321T090000
DTSTAMP:20260425T081952
CREATED:20250214T031412Z
LAST-MODIFIED:20260417T165506Z
UID:10000698-1742544000-1742547600@www.oregoncenterfornursing.org
SUMMARY:OCN Virtual Friday Huddle
DESCRIPTION:Convene. Connect. Collaborate.\nFridays at 8:00 a.m. PT | Free | Online via Zoom \nThe Friday Huddle is a weekly virtual gathering of Oregon nursing workforce leaders and stakeholders. Hosted by the Oregon Center for Nursing\, this series offers a space for real-time updates\, shared insights\, and collaborative conversation. \nWhether you're leading workforce strategy\, navigating policy changes\, or just looking to stay connected with peers across the state\, Friday Huddles are your space to learn and share. \n🟣 What to Expect:\n\n\nBrief updates from OCN and special guests \n\n\nSpotlights on current nursing workforce issues \n\n\nOpen space for questions\, dialogue\, and shared solutions \n\n\nEach session is just one hour\, held live via Zoom. \n🔗 Want to Learn More?\nVisit our Friday Huddle program page to explore FAQs\, past topics\, and how to participate.
URL:https://www.oregoncenterfornursing.org/event/friday-huddle-2/2025-03-21/
CATEGORIES:Friday Huddle
ATTACH;FMTTYPE=image/webp:https://www.oregoncenterfornursing.org/wp-content/uploads/2024/07/2-1-1.webp
ORGANIZER;CN="Oregon Center for Nursing":MAILTO:admin@oregoncenterfornursing.org
LOCATION:https://us06web.zoom.us/meeting/register/dhB5d5c8RKKxx3LzzfHBpg
END:VEVENT
BEGIN:VEVENT
DTSTART;TZID=America/Los_Angeles:20250321T083000
DTEND;TZID=America/Los_Angeles:20250321T163000
DTSTAMP:20260425T081952
CREATED:20250214T031134Z
LAST-MODIFIED:20260112T174541Z
UID:10000287-1742545800-1742574600@www.oregoncenterfornursing.org
SUMMARY:2025 NurseLearn Conference
DESCRIPTION:Welcome to NurseLearn's 2025 conference\, “From Challenges to Solutions: Advancing Community-Based Care Nursing\,” bringing together community-based care (CBC) nurses\, all nurses\, student nurses\, and other CBC professionals for a day of learning about nursing leadership\, RN delegation\, and managing resident behaviors. This event will award 4.25 hours of continuing education. \nRegister here: https://whova.com/web/1UgD3yhxS1NphHWAGhVLRFmaquRbUYOuO7gL0Cs3vZk%3D/
URL:https://www.oregoncenterfornursing.org/event/the-nurselearn-conference/
LOCATION:Salem Convention Center\, 200 Commercial Street\, Salem\, OR\, 97301\, United States
CATEGORIES:Community Event,Conferences
ATTACH;FMTTYPE=image/webp:https://www.oregoncenterfornursing.org/wp-content/uploads/2025/02/Conference-banner1.webp
ORGANIZER;CN="NurseLearn":MAILTO:info@nurselearn.com
END:VEVENT
BEGIN:VEVENT
DTSTART;TZID=America/Los_Angeles:20250328T080000
DTEND;TZID=America/Los_Angeles:20250328T090000
DTSTAMP:20260425T081952
CREATED:20250214T031412Z
LAST-MODIFIED:20260417T165506Z
UID:10000699-1743148800-1743152400@www.oregoncenterfornursing.org
SUMMARY:OCN Virtual Friday Huddle
DESCRIPTION:Convene. Connect. Collaborate.\nFridays at 8:00 a.m. PT | Free | Online via Zoom \nThe Friday Huddle is a weekly virtual gathering of Oregon nursing workforce leaders and stakeholders. Hosted by the Oregon Center for Nursing\, this series offers a space for real-time updates\, shared insights\, and collaborative conversation. \nWhether you're leading workforce strategy\, navigating policy changes\, or just looking to stay connected with peers across the state\, Friday Huddles are your space to learn and share. \n🟣 What to Expect:\n\n\nBrief updates from OCN and special guests \n\n\nSpotlights on current nursing workforce issues \n\n\nOpen space for questions\, dialogue\, and shared solutions \n\n\nEach session is just one hour\, held live via Zoom. \n🔗 Want to Learn More?\nVisit our Friday Huddle program page to explore FAQs\, past topics\, and how to participate.
URL:https://www.oregoncenterfornursing.org/event/friday-huddle-2/2025-03-28/
CATEGORIES:Friday Huddle
ATTACH;FMTTYPE=image/webp:https://www.oregoncenterfornursing.org/wp-content/uploads/2024/07/2-1-1.webp
ORGANIZER;CN="Oregon Center for Nursing":MAILTO:admin@oregoncenterfornursing.org
LOCATION:https://us06web.zoom.us/meeting/register/dhB5d5c8RKKxx3LzzfHBpg
END:VEVENT
END:VCALENDAR