BEGIN:VCALENDAR
VERSION:2.0
PRODID:-//Oregon Center for Nursing - ECPv6.15.20//NONSGML v1.0//EN
CALSCALE:GREGORIAN
METHOD:PUBLISH
X-ORIGINAL-URL:https://www.oregoncenterfornursing.org
X-WR-CALDESC:Events for Oregon Center for Nursing
REFRESH-INTERVAL;VALUE=DURATION:PT1H
X-Robots-Tag:noindex
X-PUBLISHED-TTL:PT1H
BEGIN:VTIMEZONE
TZID:America/Los_Angeles
BEGIN:DAYLIGHT
TZOFFSETFROM:-0800
TZOFFSETTO:-0700
TZNAME:PDT
DTSTART:20240310T100000
END:DAYLIGHT
BEGIN:STANDARD
TZOFFSETFROM:-0700
TZOFFSETTO:-0800
TZNAME:PST
DTSTART:20241103T090000
END:STANDARD
BEGIN:DAYLIGHT
TZOFFSETFROM:-0800
TZOFFSETTO:-0700
TZNAME:PDT
DTSTART:20250309T100000
END:DAYLIGHT
BEGIN:STANDARD
TZOFFSETFROM:-0700
TZOFFSETTO:-0800
TZNAME:PST
DTSTART:20251102T090000
END:STANDARD
BEGIN:DAYLIGHT
TZOFFSETFROM:-0800
TZOFFSETTO:-0700
TZNAME:PDT
DTSTART:20260308T100000
END:DAYLIGHT
BEGIN:STANDARD
TZOFFSETFROM:-0700
TZOFFSETTO:-0800
TZNAME:PST
DTSTART:20261101T090000
END:STANDARD
END:VTIMEZONE
BEGIN:VEVENT
DTSTART;TZID=America/Los_Angeles:20250213T130000
DTEND;TZID=America/Los_Angeles:20250213T140000
DTSTAMP:20260425T065632
CREATED:20250214T025732Z
LAST-MODIFIED:20250214T030101Z
UID:10000285-1739451600-1739455200@www.oregoncenterfornursing.org
SUMMARY:Nursing in Oregon's Intellectual and Developmental Disabilities Sector Info Session
DESCRIPTION:The Office of Developmental Disabilities Services (ODDS)\, with support from Applichat Limited and ARPA funding\, is hosting an Information Session to highlight exciting nursing opportunities in Oregon’s Intellectual and Developmental Disabilities (I/DD) sector. Nurses\, hear firsthand from other experienced nurses about flexibility\, career growth\, and the impact of this rewarding work. Find out about career paths and resources to help you get started in the I/DD sector.
URL:https://www.oregoncenterfornursing.org/event/nursing-in-oregons-intellectual-and-developmental-disabilities-sector-info-session/
LOCATION:Virtual
CATEGORIES:Community Event
ATTACH;FMTTYPE=image/jpeg:https://www.oregoncenterfornursing.org/wp-content/uploads/2025/02/nurse-working-1-scaled.jpg
END:VEVENT
BEGIN:VEVENT
DTSTART;TZID=America/Los_Angeles:20250214T080000
DTEND;TZID=America/Los_Angeles:20250214T090000
DTSTAMP:20260425T065632
CREATED:20250214T031412Z
LAST-MODIFIED:20260417T165506Z
UID:10000693-1739520000-1739523600@www.oregoncenterfornursing.org
SUMMARY:OCN Virtual Friday Huddle
DESCRIPTION:Convene. Connect. Collaborate.\nFridays at 8:00 a.m. PT | Free | Online via Zoom \nThe Friday Huddle is a weekly virtual gathering of Oregon nursing workforce leaders and stakeholders. Hosted by the Oregon Center for Nursing\, this series offers a space for real-time updates\, shared insights\, and collaborative conversation. \nWhether you're leading workforce strategy\, navigating policy changes\, or just looking to stay connected with peers across the state\, Friday Huddles are your space to learn and share. \n🟣 What to Expect:\n\n\nBrief updates from OCN and special guests \n\n\nSpotlights on current nursing workforce issues \n\n\nOpen space for questions\, dialogue\, and shared solutions \n\n\nEach session is just one hour\, held live via Zoom. \n🔗 Want to Learn More?\nVisit our Friday Huddle program page to explore FAQs\, past topics\, and how to participate.
URL:https://www.oregoncenterfornursing.org/event/friday-huddle-2/2025-02-14/
CATEGORIES:Friday Huddle
ATTACH;FMTTYPE=image/webp:https://www.oregoncenterfornursing.org/wp-content/uploads/2024/07/2-1-1.webp
ORGANIZER;CN="Oregon Center for Nursing":MAILTO:admin@oregoncenterfornursing.org
LOCATION:https://us06web.zoom.us/meeting/register/dhB5d5c8RKKxx3LzzfHBpg
END:VEVENT
BEGIN:VEVENT
DTSTART;TZID=America/Los_Angeles:20250221T080000
DTEND;TZID=America/Los_Angeles:20250221T090000
DTSTAMP:20260425T065632
CREATED:20250214T031412Z
LAST-MODIFIED:20260417T165506Z
UID:10000694-1740124800-1740128400@www.oregoncenterfornursing.org
SUMMARY:OCN Virtual Friday Huddle
DESCRIPTION:Convene. Connect. Collaborate.\nFridays at 8:00 a.m. PT | Free | Online via Zoom \nThe Friday Huddle is a weekly virtual gathering of Oregon nursing workforce leaders and stakeholders. Hosted by the Oregon Center for Nursing\, this series offers a space for real-time updates\, shared insights\, and collaborative conversation. \nWhether you're leading workforce strategy\, navigating policy changes\, or just looking to stay connected with peers across the state\, Friday Huddles are your space to learn and share. \n🟣 What to Expect:\n\n\nBrief updates from OCN and special guests \n\n\nSpotlights on current nursing workforce issues \n\n\nOpen space for questions\, dialogue\, and shared solutions \n\n\nEach session is just one hour\, held live via Zoom. \n🔗 Want to Learn More?\nVisit our Friday Huddle program page to explore FAQs\, past topics\, and how to participate.
URL:https://www.oregoncenterfornursing.org/event/friday-huddle-2/2025-02-21/
CATEGORIES:Friday Huddle
ATTACH;FMTTYPE=image/webp:https://www.oregoncenterfornursing.org/wp-content/uploads/2024/07/2-1-1.webp
ORGANIZER;CN="Oregon Center for Nursing":MAILTO:admin@oregoncenterfornursing.org
LOCATION:https://us06web.zoom.us/meeting/register/dhB5d5c8RKKxx3LzzfHBpg
END:VEVENT
BEGIN:VEVENT
DTSTART;TZID=America/Los_Angeles:20250228T080000
DTEND;TZID=America/Los_Angeles:20250228T090000
DTSTAMP:20260425T065632
CREATED:20250214T031412Z
LAST-MODIFIED:20260417T165506Z
UID:10000695-1740729600-1740733200@www.oregoncenterfornursing.org
SUMMARY:OCN Virtual Friday Huddle
DESCRIPTION:Convene. Connect. Collaborate.\nFridays at 8:00 a.m. PT | Free | Online via Zoom \nThe Friday Huddle is a weekly virtual gathering of Oregon nursing workforce leaders and stakeholders. Hosted by the Oregon Center for Nursing\, this series offers a space for real-time updates\, shared insights\, and collaborative conversation. \nWhether you're leading workforce strategy\, navigating policy changes\, or just looking to stay connected with peers across the state\, Friday Huddles are your space to learn and share. \n🟣 What to Expect:\n\n\nBrief updates from OCN and special guests \n\n\nSpotlights on current nursing workforce issues \n\n\nOpen space for questions\, dialogue\, and shared solutions \n\n\nEach session is just one hour\, held live via Zoom. \n🔗 Want to Learn More?\nVisit our Friday Huddle program page to explore FAQs\, past topics\, and how to participate.
URL:https://www.oregoncenterfornursing.org/event/friday-huddle-2/2025-02-28/
CATEGORIES:Friday Huddle
ATTACH;FMTTYPE=image/webp:https://www.oregoncenterfornursing.org/wp-content/uploads/2024/07/2-1-1.webp
ORGANIZER;CN="Oregon Center for Nursing":MAILTO:admin@oregoncenterfornursing.org
LOCATION:https://us06web.zoom.us/meeting/register/dhB5d5c8RKKxx3LzzfHBpg
END:VEVENT
END:VCALENDAR