BEGIN:VCALENDAR
VERSION:2.0
PRODID:-//Oregon Center for Nursing - ECPv6.15.20//NONSGML v1.0//EN
CALSCALE:GREGORIAN
METHOD:PUBLISH
X-ORIGINAL-URL:https://www.oregoncenterfornursing.org
X-WR-CALDESC:Events for Oregon Center for Nursing
REFRESH-INTERVAL;VALUE=DURATION:PT1H
X-Robots-Tag:noindex
X-PUBLISHED-TTL:PT1H
BEGIN:VTIMEZONE
TZID:America/Los_Angeles
BEGIN:DAYLIGHT
TZOFFSETFROM:-0800
TZOFFSETTO:-0700
TZNAME:PDT
DTSTART:20240310T100000
END:DAYLIGHT
BEGIN:STANDARD
TZOFFSETFROM:-0700
TZOFFSETTO:-0800
TZNAME:PST
DTSTART:20241103T090000
END:STANDARD
BEGIN:DAYLIGHT
TZOFFSETFROM:-0800
TZOFFSETTO:-0700
TZNAME:PDT
DTSTART:20250309T100000
END:DAYLIGHT
BEGIN:STANDARD
TZOFFSETFROM:-0700
TZOFFSETTO:-0800
TZNAME:PST
DTSTART:20251102T090000
END:STANDARD
BEGIN:DAYLIGHT
TZOFFSETFROM:-0800
TZOFFSETTO:-0700
TZNAME:PDT
DTSTART:20260308T100000
END:DAYLIGHT
BEGIN:STANDARD
TZOFFSETFROM:-0700
TZOFFSETTO:-0800
TZNAME:PST
DTSTART:20261101T090000
END:STANDARD
END:VTIMEZONE
BEGIN:VTIMEZONE
TZID:UTC
BEGIN:STANDARD
TZOFFSETFROM:+0000
TZOFFSETTO:+0000
TZNAME:UTC
DTSTART:20240101T000000
END:STANDARD
END:VTIMEZONE
BEGIN:VEVENT
DTSTART;TZID=America/Los_Angeles:20250518T080000
DTEND;TZID=America/Los_Angeles:20250520T120000
DTSTAMP:20260425T153824
CREATED:20250214T030648Z
LAST-MODIFIED:20250214T033042Z
UID:10000286-1747555200-1747742400@www.oregoncenterfornursing.org
SUMMARY:NWONL 2025 Annual Conference - Leading with Purpose
DESCRIPTION:Join the Northwest Organization of Nurse Leaders in May for its premier Nursing Leadership event! Be ready for engaging session focuses\, including: \nQuality: Owning Outcomes\, Empowering Change: Nurse leaders hold the keys to unlocking excellence in patient care. By empowering and guiding nurses to recognize and maximize their contributions\, we create a culture of accountability and high-quality outcomes. \nApplied Resilience: Thriving Amidst Challenges: Leadership demands the courage to navigate tough conversations\, manage difficult personalities\, and maintain patience under pressure. Gain insights to help equip you with the tools to cultivate resilience and lead with strength throughout your career. \nHealthy Workplaces: Building Foundations for Success: Discover actionable strategies to foster a vibrant and supportive workplace culture. Learn how to better champion well-being for yourself and your team. \nStaff Development: Nurturing Talent\, Inspiring Growth: Great leaders ignite curiosity and fuel passion by truly understanding their teams. Through mentorship and meaningful opportunities\, nurse leaders empower their staff to sharpen their clinical expertise\, expand their impact\, and discover fulfillment in their professional journeys. \nMembers and non-members are welcome. This event offers 6.0 CE credits to attendees.
URL:https://www.oregoncenterfornursing.org/event/nwonl-2025-annual-conference-leading-with-purpose/
LOCATION:Portland Marriott Downtown Waterfront\, 1401 Southwest Naito Parkway\, Portland\, OR\, 97201\, United States
CATEGORIES:Community Event,Conferences
ATTACH;FMTTYPE=image/jpeg:https://www.oregoncenterfornursing.org/wp-content/uploads/2025/02/unrecognizable-woman-raising-hand-during-conferenc-2025-02-10-09-49-36-utc-scaled.jpeg
ORGANIZER;CN="Northwest Organization of Nurse Leaders":MAILTO:admin@nwonl.org
END:VEVENT
BEGIN:VEVENT
DTSTART;VALUE=DATE:20250519
DTEND;VALUE=DATE:20250522
DTSTAMP:20260425T153824
CREATED:20241017T225352Z
LAST-MODIFIED:20241017T225352Z
UID:10000270-1747612800-1747871999@www.oregoncenterfornursing.org
SUMMARY:Forum on Rural Population Health & Health Equity
DESCRIPTION:Save the date! The next Forum on Rural Population Health & Health Equity will be held in person May 19-21\, 2025\, at the Seaside Civic & Convention Center in Seaside\, Oregon. \nThe Forum aims to strengthen community health in rural Oregon by gathering experts\, leaders and practitioners from across the health care continuum to share best practices\, emerging models and strategies\, resources\, case studies and innovations focused on enhancing community health from an array of perspectives. \nThe Forum welcomes attendees from across the healthcare continuum\, including healthcare workers and administrators\, Coordinated Care Organizations\, community-based organizations\, local and state officials\, local leaders\, policymakers\, public health officials\, and anyone invested in promoting rural community health. \nLearn more here: https://www.ohsu.edu/oregon-office-of-rural-health/forum-rural-population-health-health-equity
URL:https://www.oregoncenterfornursing.org/event/forum-on-rural-population-health-health-equity/
LOCATION:Seaside Civic & Convention Center\, 415 First Avenue\, Seaside\, OR\, 97138\, United States
CATEGORIES:Community Event
ATTACH;FMTTYPE=image/webp:https://www.oregoncenterfornursing.org/wp-content/uploads/2024/10/2024-NEW-Forum-Banner-Generic-1-1.webp
ORGANIZER;CN="Oregon Office of Rural Health":MAILTO:dragoon@ohsu.edu
END:VEVENT
END:VCALENDAR